BEGIN:VCALENDAR
VERSION:2.0
PRODID:-//Bentonville History Museum - ECPv6.5.0.1//NONSGML v1.0//EN
CALSCALE:GREGORIAN
METHOD:PUBLISH
X-WR-CALNAME:Bentonville History Museum
X-ORIGINAL-URL:https://bentonvillehistorymuseum.org
X-WR-CALDESC:Events for Bentonville History Museum
REFRESH-INTERVAL;VALUE=DURATION:PT1H
X-Robots-Tag:noindex
X-PUBLISHED-TTL:PT1H
BEGIN:VTIMEZONE
TZID:America/Chicago
BEGIN:DAYLIGHT
TZOFFSETFROM:-0600
TZOFFSETTO:-0500
TZNAME:CDT
DTSTART:20240310T080000
END:DAYLIGHT
BEGIN:STANDARD
TZOFFSETFROM:-0500
TZOFFSETTO:-0600
TZNAME:CST
DTSTART:20241103T070000
END:STANDARD
END:VTIMEZONE
BEGIN:VEVENT
DTSTART;TZID=America/Chicago:20240629T180000
DTEND;TZID=America/Chicago:20240629T210000
DTSTAMP:20260423T204420
CREATED:20240614T164206Z
LAST-MODIFIED:20240621T184237Z
UID:1098-1719684000-1719694800@bentonvillehistorymuseum.org
SUMMARY:Speakeasy Soiree
DESCRIPTION:The word speakeasy came from “speak-softly shops\,” illegal drinking establishments in England and Ireland in the 19th century. The name referenced the need for secrecy; customers were asked to speak quietly while inside to avoid detection. \n  \nCome join us for a swanky speakeasy soiree! \nPut on your glad rags and step out in style. It’s going to be the cat’s pajama – an evening of jazz\, glamour\, and prohibition-era fun. Be there or be square! \nSaturday\, June 29th from 6-9pm. \nhttps://www.zeffy.com/ticketing/5d5bf101-a911-418c-8bbe-38ffe70ce11c \nHint: Be a Time Traveler for the evening.
URL:https://bentonvillehistorymuseum.org/event/speakeasy-soiree/
LOCATION:Bentonville Brewing Company\, 901 SW 14th St\, Bentonville\, 72712\, United States
ATTACH;FMTTYPE=image/jpeg:https://bentonvillehistorymuseum.org/wp-content/uploads/2024/06/speakeasy-Raffle-Proof21.jpg
ORGANIZER;CN="Bentonville History Museum":MAILTO:info@benonvillehistorymuseum.org
END:VEVENT
END:VCALENDAR